BEGIN:VCALENDAR
VERSION:2.0
PRODID:-//The Community Classroom - ECPv6.15.20//NONSGML v1.0//EN
CALSCALE:GREGORIAN
METHOD:PUBLISH
X-WR-CALNAME:The Community Classroom
X-ORIGINAL-URL:https://thecommunityclassroom.com
X-WR-CALDESC:Events for The Community Classroom
REFRESH-INTERVAL;VALUE=DURATION:PT1H
X-Robots-Tag:noindex
X-PUBLISHED-TTL:PT1H
BEGIN:VTIMEZONE
TZID:America/New_York
BEGIN:DAYLIGHT
TZOFFSETFROM:-0500
TZOFFSETTO:-0400
TZNAME:EDT
DTSTART:20210314T070000
END:DAYLIGHT
BEGIN:STANDARD
TZOFFSETFROM:-0400
TZOFFSETTO:-0500
TZNAME:EST
DTSTART:20211107T060000
END:STANDARD
BEGIN:DAYLIGHT
TZOFFSETFROM:-0500
TZOFFSETTO:-0400
TZNAME:EDT
DTSTART:20220313T070000
END:DAYLIGHT
BEGIN:STANDARD
TZOFFSETFROM:-0400
TZOFFSETTO:-0500
TZNAME:EST
DTSTART:20221106T060000
END:STANDARD
BEGIN:DAYLIGHT
TZOFFSETFROM:-0500
TZOFFSETTO:-0400
TZNAME:EDT
DTSTART:20230312T070000
END:DAYLIGHT
BEGIN:STANDARD
TZOFFSETFROM:-0400
TZOFFSETTO:-0500
TZNAME:EST
DTSTART:20231105T060000
END:STANDARD
BEGIN:DAYLIGHT
TZOFFSETFROM:-0500
TZOFFSETTO:-0400
TZNAME:EDT
DTSTART:20240310T070000
END:DAYLIGHT
BEGIN:STANDARD
TZOFFSETFROM:-0400
TZOFFSETTO:-0500
TZNAME:EST
DTSTART:20241103T060000
END:STANDARD
BEGIN:DAYLIGHT
TZOFFSETFROM:-0500
TZOFFSETTO:-0400
TZNAME:EDT
DTSTART:20250309T070000
END:DAYLIGHT
BEGIN:STANDARD
TZOFFSETFROM:-0400
TZOFFSETTO:-0500
TZNAME:EST
DTSTART:20251102T060000
END:STANDARD
BEGIN:DAYLIGHT
TZOFFSETFROM:-0500
TZOFFSETTO:-0400
TZNAME:EDT
DTSTART:20260308T070000
END:DAYLIGHT
BEGIN:STANDARD
TZOFFSETFROM:-0400
TZOFFSETTO:-0500
TZNAME:EST
DTSTART:20261101T060000
END:STANDARD
BEGIN:DAYLIGHT
TZOFFSETFROM:-0500
TZOFFSETTO:-0400
TZNAME:EDT
DTSTART:20270314T070000
END:DAYLIGHT
BEGIN:STANDARD
TZOFFSETFROM:-0400
TZOFFSETTO:-0500
TZNAME:EST
DTSTART:20271107T060000
END:STANDARD
END:VTIMEZONE
BEGIN:VEVENT
DTSTART;TZID=America/New_York:20260409T160000
DTEND;TZID=America/New_York:20260409T180000
DTSTAMP:20260422T093429
CREATED:20260114T204338Z
LAST-MODIFIED:20260117T223317Z
UID:851117-1775750400-1775757600@thecommunityclassroom.com
SUMMARY:National Unicorn Day Celebration
DESCRIPTION:Bring your family and meet a REAL. LIVE. UNICORN! On the patio at High Five Books and brought to you by High Five Books\, A2Z Science and Learning Toy Store\, and The Community Classroom. I \nAlso! Learn about spring & summer learning opportunities for Northampton-area families.
URL:https://thecommunityclassroom.com/event/national-unicorn-day-celebration/
LOCATION:High Five Books\, 141 N Main Street\, Florence\, MA\, 01062\, United States
CATEGORIES:Community Classroom Event,Community Event
ATTACH;FMTTYPE=image/jpeg:https://thecommunityclassroom.com/wp-content/uploads/2026/01/Library-of-Unruly-Treasures-SQUARE.jpg
END:VEVENT
BEGIN:VEVENT
DTSTART;TZID=America/New_York:20251015T140000
DTEND;TZID=America/New_York:20251015T180000
DTSTAMP:20260422T093429
CREATED:20251013T220317Z
LAST-MODIFIED:20251013T220317Z
UID:850922-1760536800-1760551200@thecommunityclassroom.com
SUMMARY:Spooky Science at the Florence Farmers Market
DESCRIPTION:Spooky Science at the Florence Farmers’ MarketHosted by The Community Classroom\nWe’re bringing back our wildly popular\, free\, family-friendly STEM celebration—designed and organized by The Community Classroom! Last year we planned for 40 families and ran out of supplies in under an hour; this year we’re expanding capacity and adding fantastic partners to meet demand.\nWhat to expect: \n\nMake-and-take STEM kits and spooky science experiments\nHands-on activity tables with market vendors & local orgs\nThe Community Classroom Pop-Up Reading Room and Space Trailer for STEM literacy and mobile science fun\nSpecial guests: Britt Crow Miller with The World of Rot and a peek at Thank You\, Old Oak\nStars Above Inc. leading constellation art and serving as our on-hand astronomer\nPartners include High Five Books\, A2Z Science & Learning Toy Store\, and Florence Farmers’ Market vendors\n\n Free book + activity giveaways (while supplies last) at 2:30\, 3:30\, 4:30\, and 5:30 to accommodate different arrival times.\n Costumes encouraged (not required)!\nFunding credit: This event is made possible by a grant to The Community Classroom from the Pioneer Valley STEM Network in celebration of National STEM Week
URL:https://thecommunityclassroom.com/event/spooky-science-at-the-florence-farmers-market-2/
LOCATION:Florence Civic Center\, 90 Park Street\, Florence\, MA\, 01062\, United States
CATEGORIES:Community Event
ATTACH;FMTTYPE=image/jpeg:https://thecommunityclassroom.com/wp-content/uploads/2024/10/Halloween-scaled.jpg
END:VEVENT
BEGIN:VEVENT
DTSTART;TZID=America/New_York:20250928T100000
DTEND;TZID=America/New_York:20250928T160000
DTSTAMP:20260422T093429
CREATED:20250822T022320Z
LAST-MODIFIED:20250822T022709Z
UID:850826-1759053600-1759075200@thecommunityclassroom.com
SUMMARY:Parson's Block Party
DESCRIPTION:A block party on Parson’s Block! Details coming.
URL:https://thecommunityclassroom.com/event/parsons-block-party/
LOCATION:The Community Classroom\, 86 Maple Street\, Florence\, Massachusetts\, 01062
CATEGORIES:Community Classroom Event,Community Event
END:VEVENT
BEGIN:VEVENT
DTSTART;TZID=America/New_York:20250927T133000
DTEND;TZID=America/New_York:20250927T183000
DTSTAMP:20260422T093429
CREATED:20250822T021922Z
LAST-MODIFIED:20250920T150550Z
UID:850824-1758979800-1758997800@thecommunityclassroom.com
SUMMARY:Astronomy Day free family celebration
DESCRIPTION:September 27th from 2:30-6:30. A day to celebrate all things astronomy with collaborators High Five Books\, A2Z Science and Learning Toy Store\, and Stars Above Inc.
URL:https://thecommunityclassroom.com/event/astronomy-day-free-family-celebration/
LOCATION:Bombyx Center for Arts and Equity\, 130 Pine Street\, Florence\, 01062\, United States
CATEGORIES:Community Event
ATTACH;FMTTYPE=image/jpeg:https://thecommunityclassroom.com/wp-content/uploads/2021/02/Trailer-scaled.jpg
END:VEVENT
BEGIN:VEVENT
DTSTART;TZID=America/New_York:20250903T140000
DTEND;TZID=America/New_York:20250903T180000
DTSTAMP:20260422T093429
CREATED:20250623T160019Z
LAST-MODIFIED:20250902T030702Z
UID:850593-1756908000-1756922400@thecommunityclassroom.com
SUMMARY:Florence Farmers Market: Market Minestrone
DESCRIPTION:🍲 Build a soup\, support local farms!Stop by the Community Classroom table at the Florence Farmer’s Market between 2–6 PM to assemble a Market Minestrone kit. Kids measure pasta\, lentils\, and herbs at our table; then you’ll pick up fresh veggies from market stands to finish the soup at home. \nHow it works (quick + easy): \n\n\nScoop a simple dry mix (pasta\, lentils\, herbs). \n\n\nShop the market for veggies (2–3 cups) and greens. \n\n\nAt home\, add water or broth and simmer. Dinner = done. \n\n\nWhat to pick up while you’re there: \n\n\nMicrogreens or salad greens 🌱 \n\n\nMushrooms 🍄 \n\n\nLate-summer veg (tomatoes\, zucchini\, peppers\, carrots\, celery) 🥕🍅 \n\n\nFresh bread for dipping 🥖 \n\n\nItalian soda for a fizzy treat 🥤 \n\n\nFlowers for the table 💐 \n\n\nBeefalo (optional protein to add on the side) 🥩 \n\n\nDetails:📍 Florence Farmer’s Market (look for the Community Classroom table)🕑 2–6 PM\, drop-in anytime💵 Free activity • Bilingual recipe card (EN/ES) • Gluten-free option available⚠️ While supplies last
URL:https://thecommunityclassroom.com/event/florence-farmers-market-10/
LOCATION:Florence Civic Center\, 90 Park Street\, Florence\, MA\, 01062\, United States
CATEGORIES:Community Event
ATTACH;FMTTYPE=image/png:https://thecommunityclassroom.com/wp-content/uploads/2025/06/florence-farmers-market-logo.png
END:VEVENT
BEGIN:VEVENT
DTSTART;TZID=America/New_York:20250827T140000
DTEND;TZID=America/New_York:20250827T180000
DTSTAMP:20260422T093429
CREATED:20250623T160329Z
LAST-MODIFIED:20250623T160329Z
UID:850595-1756303200-1756317600@thecommunityclassroom.com
SUMMARY:Florence Farmers Market
DESCRIPTION:Join us every Wednesday throughout the summer at the Florence Farmers Market! We’ll have our interactive Community Classroom trailer on hand\, a variety of projects for the kids\, and pop-up art opportunities throughout the season.
URL:https://thecommunityclassroom.com/event/florence-farmers-market-11/
LOCATION:Florence Civic Center\, 90 Park Street\, Florence\, MA\, 01062\, United States
CATEGORIES:Community Event
ATTACH;FMTTYPE=image/png:https://thecommunityclassroom.com/wp-content/uploads/2025/06/florence-farmers-market-logo.png
END:VEVENT
BEGIN:VEVENT
DTSTART;TZID=America/New_York:20250820T140000
DTEND;TZID=America/New_York:20250820T180000
DTSTAMP:20260422T093429
CREATED:20250623T155929Z
LAST-MODIFIED:20250623T155929Z
UID:850591-1755698400-1755712800@thecommunityclassroom.com
SUMMARY:Florence Farmers Market
DESCRIPTION:Join us every Wednesday throughout the summer at the Florence Farmers Market! We’ll have our interactive Community Classroom trailer on hand\, a variety of projects for the kids\, and pop-up art opportunities throughout the season.
URL:https://thecommunityclassroom.com/event/florence-farmers-market-9/
LOCATION:Florence Civic Center\, 90 Park Street\, Florence\, MA\, 01062\, United States
CATEGORIES:Community Event
ATTACH;FMTTYPE=image/png:https://thecommunityclassroom.com/wp-content/uploads/2025/06/florence-farmers-market-logo.png
END:VEVENT
BEGIN:VEVENT
DTSTART;TZID=America/New_York:20250813T140000
DTEND;TZID=America/New_York:20250813T180000
DTSTAMP:20260422T093429
CREATED:20250623T155833Z
LAST-MODIFIED:20250623T155833Z
UID:850589-1755093600-1755108000@thecommunityclassroom.com
SUMMARY:Florence Farmers Market
DESCRIPTION:Join us every Wednesday throughout the summer at the Florence Farmers Market! We’ll have our interactive Community Classroom trailer on hand\, a variety of projects for the kids\, and pop-up art opportunities throughout the season.
URL:https://thecommunityclassroom.com/event/florence-farmers-market-8/
LOCATION:Florence Civic Center\, 90 Park Street\, Florence\, MA\, 01062\, United States
CATEGORIES:Community Event
ATTACH;FMTTYPE=image/png:https://thecommunityclassroom.com/wp-content/uploads/2025/06/florence-farmers-market-logo.png
END:VEVENT
BEGIN:VEVENT
DTSTART;TZID=America/New_York:20250806T140000
DTEND;TZID=America/New_York:20250806T180000
DTSTAMP:20260422T093429
CREATED:20250623T155734Z
LAST-MODIFIED:20250623T155734Z
UID:850587-1754488800-1754503200@thecommunityclassroom.com
SUMMARY:Florence Farmers Market
DESCRIPTION:Join us every Wednesday throughout the summer at the Florence Farmers Market! We’ll have our interactive Community Classroom trailer on hand\, a variety of projects for the kids\, and pop-up art opportunities throughout the season.
URL:https://thecommunityclassroom.com/event/florence-farmers-market-7/
LOCATION:Florence Civic Center\, 90 Park Street\, Florence\, MA\, 01062\, United States
CATEGORIES:Community Event
ATTACH;FMTTYPE=image/png:https://thecommunityclassroom.com/wp-content/uploads/2025/06/florence-farmers-market-logo.png
END:VEVENT
BEGIN:VEVENT
DTSTART;TZID=America/New_York:20250730T140000
DTEND;TZID=America/New_York:20250730T180000
DTSTAMP:20260422T093429
CREATED:20250623T155637Z
LAST-MODIFIED:20250623T155637Z
UID:850585-1753884000-1753898400@thecommunityclassroom.com
SUMMARY:Florence Farmers Market
DESCRIPTION:Join us every Wednesday throughout the summer at the Florence Farmers Market! We’ll have our interactive Community Classroom trailer on hand\, a variety of projects for the kids\, and pop-up art opportunities throughout the season.
URL:https://thecommunityclassroom.com/event/florence-farmers-market-6/
LOCATION:Florence Civic Center\, 90 Park Street\, Florence\, MA\, 01062\, United States
CATEGORIES:Community Event
ATTACH;FMTTYPE=image/png:https://thecommunityclassroom.com/wp-content/uploads/2025/06/florence-farmers-market-logo.png
END:VEVENT
BEGIN:VEVENT
DTSTART;TZID=America/New_York:20250716T140000
DTEND;TZID=America/New_York:20250716T180000
DTSTAMP:20260422T093429
CREATED:20250623T155420Z
LAST-MODIFIED:20250623T155420Z
UID:850581-1752674400-1752688800@thecommunityclassroom.com
SUMMARY:Florence Farmers Market
DESCRIPTION:Join us every Wednesday throughout the summer at the Florence Farmers Market! We’ll have our interactive Community Classroom trailer on hand\, a variety of projects for the kids\, and pop-up art opportunities throughout the season.
URL:https://thecommunityclassroom.com/event/florence-farmers-market-4/
LOCATION:Florence Night Out\, North Main Street\, Florence\, MA\, 01062\, United States
CATEGORIES:Community Event
ATTACH;FMTTYPE=image/png:https://thecommunityclassroom.com/wp-content/uploads/2025/06/florence-farmers-market-logo.png
END:VEVENT
BEGIN:VEVENT
DTSTART;TZID=America/New_York:20250709T140000
DTEND;TZID=America/New_York:20250709T180000
DTSTAMP:20260422T093429
CREATED:20250623T155324Z
LAST-MODIFIED:20250623T155324Z
UID:850579-1752069600-1752084000@thecommunityclassroom.com
SUMMARY:Florence Farmers Market
DESCRIPTION:Join us every Wednesday throughout the summer at the Florence Farmers Market! We’ll have our interactive Community Classroom trailer on hand\, a variety of projects for the kids\, and pop-up art opportunities throughout the season.
URL:https://thecommunityclassroom.com/event/florence-farmers-market-3/
LOCATION:Florence Civic Center\, 90 Park Street\, Florence\, MA\, 01062\, United States
CATEGORIES:Community Event
ATTACH;FMTTYPE=image/png:https://thecommunityclassroom.com/wp-content/uploads/2025/06/florence-farmers-market-logo.png
END:VEVENT
BEGIN:VEVENT
DTSTART;TZID=America/New_York:20250702T140000
DTEND;TZID=America/New_York:20250702T180000
DTSTAMP:20260422T093429
CREATED:20250623T155224Z
LAST-MODIFIED:20250623T155224Z
UID:850577-1751464800-1751479200@thecommunityclassroom.com
SUMMARY:Florence Farmers Market
DESCRIPTION:Join us every Wednesday throughout the summer at the Florence Farmers Market! We’ll have our interactive Community Classroom trailer on hand\, a variety of projects for the kids\, and pop-up art opportunities throughout the season.
URL:https://thecommunityclassroom.com/event/florence-farmers-market-2/
LOCATION:Florence Civic Center\, 90 Park Street\, Florence\, MA\, 01062\, United States
CATEGORIES:Community Event
ATTACH;FMTTYPE=image/png:https://thecommunityclassroom.com/wp-content/uploads/2025/06/florence-farmers-market-logo.png
END:VEVENT
BEGIN:VEVENT
DTSTART;TZID=America/New_York:20250625T140000
DTEND;TZID=America/New_York:20250625T180000
DTSTAMP:20260422T093429
CREATED:20250623T155028Z
LAST-MODIFIED:20250623T155028Z
UID:850574-1750860000-1750874400@thecommunityclassroom.com
SUMMARY:Florence Farmers Market
DESCRIPTION:Join us every Wednesday throughout the summer at the Florence Farmers Market! We’ll have our interactive Community Classroom trailer on hand\, a variety of projects for the kids\, and pop-up art opportunities throughout the season.
URL:https://thecommunityclassroom.com/event/florence-farmers-market/
LOCATION:Florence Civic Center\, 90 Park Street\, Florence\, MA\, 01062\, United States
CATEGORIES:Community Event
ATTACH;FMTTYPE=image/png:https://thecommunityclassroom.com/wp-content/uploads/2025/06/florence-farmers-market-logo.png
END:VEVENT
BEGIN:VEVENT
DTSTART;TZID=America/New_York:20241023T140000
DTEND;TZID=America/New_York:20241023T180000
DTSTAMP:20260422T093429
CREATED:20240925T010320Z
LAST-MODIFIED:20240925T010320Z
UID:845221-1729692000-1729706400@thecommunityclassroom.com
SUMMARY:Spooky Science at the Florence Farmers Market
DESCRIPTION:Spooky Science at the Florence Farmers Market to celebrate Massachusetts STEM Week 2024! \nJoin us at the Florence Farmers Market for: \n\nFree STEM kits for kids*\nFree STEM books for kids*\nA math scavenger hunt with prizes\nSpooky science activities\n\nIn partnership with A2Z Science and Learning Toy Store\, thanks to a generous grant from the Pioneer Valley STEM Network. \n*While supplies last
URL:https://thecommunityclassroom.com/event/spooky-science-at-the-florence-farmers-market/
LOCATION:Florence Civic Center\, 90 Park Street\, Florence\, MA\, 01062\, United States
CATEGORIES:Community Event
ATTACH;FMTTYPE=image/jpeg:https://thecommunityclassroom.com/wp-content/uploads/2023/10/IMG_0840-scaled.jpeg
END:VEVENT
BEGIN:VEVENT
DTSTART;TZID=America/New_York:20220924T160000
DTEND;TZID=America/New_York:20220924T190000
DTSTAMP:20260422T093429
CREATED:20220802T204044Z
LAST-MODIFIED:20220921T013816Z
UID:800560-1664035200-1664046000@thecommunityclassroom.com
SUMMARY:Florence Night Out
DESCRIPTION:Join The Community Classroom at our Carnival Booth (in partnership with Caravan Kitchen) as we bring some fun games to the event! We’ll be raising money with carnival games for the Dean Fund\, a scholarship fund to support free English lessons for Afghan evacuees in Northampton. Come play\, win prizes\, and know your money is going to a great cause! \n \nDid you try the estimation activity at Caravan Kitchen? Find the answers at the link below. And thanks for playing! \nCaravan Kitchen answers
URL:https://thecommunityclassroom.com/event/florence-night-out/
LOCATION:Florence Night Out\, North Main Street\, Florence\, MA\, 01062\, United States
CATEGORIES:Community Event
ATTACH;FMTTYPE=image/png:https://thecommunityclassroom.com/wp-content/uploads/2022/08/florence-night-out-logo.png
END:VEVENT
END:VCALENDAR