BEGIN:VCALENDAR
VERSION:2.0
PRODID:-//The Community Classroom - ECPv6.15.20//NONSGML v1.0//EN
CALSCALE:GREGORIAN
METHOD:PUBLISH
X-ORIGINAL-URL:https://thecommunityclassroom.com
X-WR-CALDESC:Events for The Community Classroom
REFRESH-INTERVAL;VALUE=DURATION:PT1H
X-Robots-Tag:noindex
X-PUBLISHED-TTL:PT1H
BEGIN:VTIMEZONE
TZID:America/New_York
BEGIN:DAYLIGHT
TZOFFSETFROM:-0500
TZOFFSETTO:-0400
TZNAME:EDT
DTSTART:20210314T070000
END:DAYLIGHT
BEGIN:STANDARD
TZOFFSETFROM:-0400
TZOFFSETTO:-0500
TZNAME:EST
DTSTART:20211107T060000
END:STANDARD
BEGIN:DAYLIGHT
TZOFFSETFROM:-0500
TZOFFSETTO:-0400
TZNAME:EDT
DTSTART:20220313T070000
END:DAYLIGHT
BEGIN:STANDARD
TZOFFSETFROM:-0400
TZOFFSETTO:-0500
TZNAME:EST
DTSTART:20221106T060000
END:STANDARD
BEGIN:DAYLIGHT
TZOFFSETFROM:-0500
TZOFFSETTO:-0400
TZNAME:EDT
DTSTART:20230312T070000
END:DAYLIGHT
BEGIN:STANDARD
TZOFFSETFROM:-0400
TZOFFSETTO:-0500
TZNAME:EST
DTSTART:20231105T060000
END:STANDARD
END:VTIMEZONE
BEGIN:VEVENT
DTSTART;TZID=America/New_York:20220924T160000
DTEND;TZID=America/New_York:20220924T190000
DTSTAMP:20260423T130551
CREATED:20220802T204044Z
LAST-MODIFIED:20220921T013816Z
UID:800560-1664035200-1664046000@thecommunityclassroom.com
SUMMARY:Florence Night Out
DESCRIPTION:Join The Community Classroom at our Carnival Booth (in partnership with Caravan Kitchen) as we bring some fun games to the event! We’ll be raising money with carnival games for the Dean Fund\, a scholarship fund to support free English lessons for Afghan evacuees in Northampton. Come play\, win prizes\, and know your money is going to a great cause! \n \nDid you try the estimation activity at Caravan Kitchen? Find the answers at the link below. And thanks for playing! \nCaravan Kitchen answers
URL:https://thecommunityclassroom.com/event/florence-night-out/
LOCATION:Florence Night Out\, North Main Street\, Florence\, MA\, 01062\, United States
CATEGORIES:Community Event
ATTACH;FMTTYPE=image/png:https://thecommunityclassroom.com/wp-content/uploads/2022/08/florence-night-out-logo.png
END:VEVENT
END:VCALENDAR